BEGIN:VCALENDAR
VERSION:2.0
PRODID:-//Irvine Community Connection - ECPv6.14.0//NONSGML v1.0//EN
CALSCALE:GREGORIAN
METHOD:PUBLISH
X-WR-CALNAME:Irvine Community Connection
X-ORIGINAL-URL:https://www.irvineconnection.com
X-WR-CALDESC:Events for Irvine Community Connection
REFRESH-INTERVAL;VALUE=DURATION:PT1H
X-Robots-Tag:noindex
X-PUBLISHED-TTL:PT1H
BEGIN:VTIMEZONE
TZID:America/Los_Angeles
BEGIN:DAYLIGHT
TZOFFSETFROM:-0800
TZOFFSETTO:-0700
TZNAME:PDT
DTSTART:20240310T100000
END:DAYLIGHT
BEGIN:STANDARD
TZOFFSETFROM:-0700
TZOFFSETTO:-0800
TZNAME:PST
DTSTART:20241103T090000
END:STANDARD
BEGIN:DAYLIGHT
TZOFFSETFROM:-0800
TZOFFSETTO:-0700
TZNAME:PDT
DTSTART:20250309T100000
END:DAYLIGHT
BEGIN:STANDARD
TZOFFSETFROM:-0700
TZOFFSETTO:-0800
TZNAME:PST
DTSTART:20251102T090000
END:STANDARD
END:VTIMEZONE
BEGIN:VEVENT
DTSTART;TZID=America/Los_Angeles:20250202T160000
DTEND;TZID=America/Los_Angeles:20250202T190000
DTSTAMP:20260424T095008
CREATED:20250123T204933Z
LAST-MODIFIED:20250123T204933Z
UID:10000458-1738512000-1738522800@www.irvineconnection.com
SUMMARY:Woodbury Night Market: Lunar New Year Edition
DESCRIPTION:Join us at Woodbury Town Center for a memorable Woodbury Night Market: Lunar New Year Celebration. During the event\, indulge in mouthwatering food\, enjoy captive entertainment\, and more! \nEntertainment:\n\nLive DJ music\nLion dance\nAcrobatics\nSnake handler presentation\n\nEnjoy Bites and Drinks From:\n\nShin Sen Gumi Yakitori\nCHA for Tea – University Center & Woodbridge Village Center\nHandel’s Homemade Ice Cream – Alton Square\nParis Baguette – Woodbury Town Center\nPaderia – The Square\nJunbi Matcha & Tea – Culver Plaza\nHui Lau Shan – Alton Square\nNekter Juice Bar – Woodbury Town Center\nMad Dumplings – University Center\nGindaco Takoyaki
URL:https://www.irvineconnection.com/event/woodbury-night-market-lunar-new-year-edition/
LOCATION:Woodbury Town Center\, 6460 Irvine Blvd.\, Irvine\, CA\, United States
ATTACH;FMTTYPE=image/jpeg:https://www.irvineconnection.com/wp-content/uploads/2025/01/LNY_Woodbury_2025_1600x960.jpg
END:VEVENT
BEGIN:VEVENT
DTSTART;TZID=America/Los_Angeles:20240831T120000
DTEND;TZID=America/Los_Angeles:20240831T140000
DTSTAMP:20260424T095008
CREATED:20240711T234236Z
LAST-MODIFIED:20240711T234734Z
UID:10000116-1725105600-1725112800@www.irvineconnection.com
SUMMARY:Summer Acoustic Vibes at Woodbury Town Center
DESCRIPTION:Join us on select Saturdays at Woodbury Town Center this summer for music the whole family can enjoy.* \nWoodbury Town Center Courtyard | Saturdays 12pm – 2pm \n\nJuly 13 – Autumn Melody Thomas\nJuly 20 – Shea Givens\nJuly 27 – David Rosales\nAugust 3 – Adam Lasher\nAugust 10 – Just Landed\nAugust 17 – Joanna Gerolaga\nAugust 24 – Sophia Rollano\nAugust 31 – Kai Kalama\n\n*Events are weather permitting. Subject to change without prior notice.
URL:https://www.irvineconnection.com/event/summer-acoustic-vibes-at-woodbury-town-center/2024-08-31/
LOCATION:Woodbury Town Center\, 6460 Irvine Blvd.\, Irvine\, CA\, United States
ATTACH;FMTTYPE=image/jpeg:https://www.irvineconnection.com/wp-content/uploads/2024/07/Family-Fun-Nights-1600x960-2.jpg
END:VEVENT
BEGIN:VEVENT
DTSTART;TZID=America/Los_Angeles:20240824T120000
DTEND;TZID=America/Los_Angeles:20240824T140000
DTSTAMP:20260424T095008
CREATED:20240711T234236Z
LAST-MODIFIED:20240711T234734Z
UID:10000115-1724500800-1724508000@www.irvineconnection.com
SUMMARY:Summer Acoustic Vibes at Woodbury Town Center
DESCRIPTION:Join us on select Saturdays at Woodbury Town Center this summer for music the whole family can enjoy.* \nWoodbury Town Center Courtyard | Saturdays 12pm – 2pm \n\nJuly 13 – Autumn Melody Thomas\nJuly 20 – Shea Givens\nJuly 27 – David Rosales\nAugust 3 – Adam Lasher\nAugust 10 – Just Landed\nAugust 17 – Joanna Gerolaga\nAugust 24 – Sophia Rollano\nAugust 31 – Kai Kalama\n\n*Events are weather permitting. Subject to change without prior notice.
URL:https://www.irvineconnection.com/event/summer-acoustic-vibes-at-woodbury-town-center/2024-08-24/
LOCATION:Woodbury Town Center\, 6460 Irvine Blvd.\, Irvine\, CA\, United States
ATTACH;FMTTYPE=image/jpeg:https://www.irvineconnection.com/wp-content/uploads/2024/07/Family-Fun-Nights-1600x960-2.jpg
END:VEVENT
BEGIN:VEVENT
DTSTART;TZID=America/Los_Angeles:20240817T120000
DTEND;TZID=America/Los_Angeles:20240817T140000
DTSTAMP:20260424T095008
CREATED:20240711T234236Z
LAST-MODIFIED:20240711T234734Z
UID:10000114-1723896000-1723903200@www.irvineconnection.com
SUMMARY:Summer Acoustic Vibes at Woodbury Town Center
DESCRIPTION:Join us on select Saturdays at Woodbury Town Center this summer for music the whole family can enjoy.* \nWoodbury Town Center Courtyard | Saturdays 12pm – 2pm \n\nJuly 13 – Autumn Melody Thomas\nJuly 20 – Shea Givens\nJuly 27 – David Rosales\nAugust 3 – Adam Lasher\nAugust 10 – Just Landed\nAugust 17 – Joanna Gerolaga\nAugust 24 – Sophia Rollano\nAugust 31 – Kai Kalama\n\n*Events are weather permitting. Subject to change without prior notice.
URL:https://www.irvineconnection.com/event/summer-acoustic-vibes-at-woodbury-town-center/2024-08-17/
LOCATION:Woodbury Town Center\, 6460 Irvine Blvd.\, Irvine\, CA\, United States
ATTACH;FMTTYPE=image/jpeg:https://www.irvineconnection.com/wp-content/uploads/2024/07/Family-Fun-Nights-1600x960-2.jpg
END:VEVENT
BEGIN:VEVENT
DTSTART;TZID=America/Los_Angeles:20240810T120000
DTEND;TZID=America/Los_Angeles:20240810T140000
DTSTAMP:20260424T095008
CREATED:20240711T234236Z
LAST-MODIFIED:20240711T234734Z
UID:10000113-1723291200-1723298400@www.irvineconnection.com
SUMMARY:Summer Acoustic Vibes at Woodbury Town Center
DESCRIPTION:Join us on select Saturdays at Woodbury Town Center this summer for music the whole family can enjoy.* \nWoodbury Town Center Courtyard | Saturdays 12pm – 2pm \n\nJuly 13 – Autumn Melody Thomas\nJuly 20 – Shea Givens\nJuly 27 – David Rosales\nAugust 3 – Adam Lasher\nAugust 10 – Just Landed\nAugust 17 – Joanna Gerolaga\nAugust 24 – Sophia Rollano\nAugust 31 – Kai Kalama\n\n*Events are weather permitting. Subject to change without prior notice.
URL:https://www.irvineconnection.com/event/summer-acoustic-vibes-at-woodbury-town-center/2024-08-10/
LOCATION:Woodbury Town Center\, 6460 Irvine Blvd.\, Irvine\, CA\, United States
ATTACH;FMTTYPE=image/jpeg:https://www.irvineconnection.com/wp-content/uploads/2024/07/Family-Fun-Nights-1600x960-2.jpg
END:VEVENT
BEGIN:VEVENT
DTSTART;TZID=America/Los_Angeles:20240803T120000
DTEND;TZID=America/Los_Angeles:20240803T140000
DTSTAMP:20260424T095008
CREATED:20240711T234236Z
LAST-MODIFIED:20240711T234734Z
UID:10000112-1722686400-1722693600@www.irvineconnection.com
SUMMARY:Summer Acoustic Vibes at Woodbury Town Center
DESCRIPTION:Join us on select Saturdays at Woodbury Town Center this summer for music the whole family can enjoy.* \nWoodbury Town Center Courtyard | Saturdays 12pm – 2pm \n\nJuly 13 – Autumn Melody Thomas\nJuly 20 – Shea Givens\nJuly 27 – David Rosales\nAugust 3 – Adam Lasher\nAugust 10 – Just Landed\nAugust 17 – Joanna Gerolaga\nAugust 24 – Sophia Rollano\nAugust 31 – Kai Kalama\n\n*Events are weather permitting. Subject to change without prior notice.
URL:https://www.irvineconnection.com/event/summer-acoustic-vibes-at-woodbury-town-center/2024-08-03/
LOCATION:Woodbury Town Center\, 6460 Irvine Blvd.\, Irvine\, CA\, United States
ATTACH;FMTTYPE=image/jpeg:https://www.irvineconnection.com/wp-content/uploads/2024/07/Family-Fun-Nights-1600x960-2.jpg
END:VEVENT
BEGIN:VEVENT
DTSTART;TZID=America/Los_Angeles:20240727T120000
DTEND;TZID=America/Los_Angeles:20240727T140000
DTSTAMP:20260424T095008
CREATED:20240711T234236Z
LAST-MODIFIED:20240711T234734Z
UID:10000111-1722081600-1722088800@www.irvineconnection.com
SUMMARY:Summer Acoustic Vibes at Woodbury Town Center
DESCRIPTION:Join us on select Saturdays at Woodbury Town Center this summer for music the whole family can enjoy.* \nWoodbury Town Center Courtyard | Saturdays 12pm – 2pm \n\nJuly 13 – Autumn Melody Thomas\nJuly 20 – Shea Givens\nJuly 27 – David Rosales\nAugust 3 – Adam Lasher\nAugust 10 – Just Landed\nAugust 17 – Joanna Gerolaga\nAugust 24 – Sophia Rollano\nAugust 31 – Kai Kalama\n\n*Events are weather permitting. Subject to change without prior notice.
URL:https://www.irvineconnection.com/event/summer-acoustic-vibes-at-woodbury-town-center/2024-07-27/
LOCATION:Woodbury Town Center\, 6460 Irvine Blvd.\, Irvine\, CA\, United States
ATTACH;FMTTYPE=image/jpeg:https://www.irvineconnection.com/wp-content/uploads/2024/07/Family-Fun-Nights-1600x960-2.jpg
END:VEVENT
BEGIN:VEVENT
DTSTART;TZID=America/Los_Angeles:20240720T120000
DTEND;TZID=America/Los_Angeles:20240720T140000
DTSTAMP:20260424T095008
CREATED:20240711T234236Z
LAST-MODIFIED:20240711T234734Z
UID:10000110-1721476800-1721484000@www.irvineconnection.com
SUMMARY:Summer Acoustic Vibes at Woodbury Town Center
DESCRIPTION:Join us on select Saturdays at Woodbury Town Center this summer for music the whole family can enjoy.* \nWoodbury Town Center Courtyard | Saturdays 12pm – 2pm \n\nJuly 13 – Autumn Melody Thomas\nJuly 20 – Shea Givens\nJuly 27 – David Rosales\nAugust 3 – Adam Lasher\nAugust 10 – Just Landed\nAugust 17 – Joanna Gerolaga\nAugust 24 – Sophia Rollano\nAugust 31 – Kai Kalama\n\n*Events are weather permitting. Subject to change without prior notice.
URL:https://www.irvineconnection.com/event/summer-acoustic-vibes-at-woodbury-town-center/2024-07-20/
LOCATION:Woodbury Town Center\, 6460 Irvine Blvd.\, Irvine\, CA\, United States
ATTACH;FMTTYPE=image/jpeg:https://www.irvineconnection.com/wp-content/uploads/2024/07/Family-Fun-Nights-1600x960-2.jpg
END:VEVENT
BEGIN:VEVENT
DTSTART;TZID=America/Los_Angeles:20240713T120000
DTEND;TZID=America/Los_Angeles:20240713T140000
DTSTAMP:20260424T095008
CREATED:20240711T234236Z
LAST-MODIFIED:20240711T234734Z
UID:10000109-1720872000-1720879200@www.irvineconnection.com
SUMMARY:Summer Acoustic Vibes at Woodbury Town Center
DESCRIPTION:Join us on select Saturdays at Woodbury Town Center this summer for music the whole family can enjoy.* \nWoodbury Town Center Courtyard | Saturdays 12pm – 2pm \n\nJuly 13 – Autumn Melody Thomas\nJuly 20 – Shea Givens\nJuly 27 – David Rosales\nAugust 3 – Adam Lasher\nAugust 10 – Just Landed\nAugust 17 – Joanna Gerolaga\nAugust 24 – Sophia Rollano\nAugust 31 – Kai Kalama\n\n*Events are weather permitting. Subject to change without prior notice.
URL:https://www.irvineconnection.com/event/summer-acoustic-vibes-at-woodbury-town-center/2024-07-13/
LOCATION:Woodbury Town Center\, 6460 Irvine Blvd.\, Irvine\, CA\, United States
ATTACH;FMTTYPE=image/jpeg:https://www.irvineconnection.com/wp-content/uploads/2024/07/Family-Fun-Nights-1600x960-2.jpg
END:VEVENT
END:VCALENDAR