BEGIN:VCALENDAR
VERSION:2.0
PRODID:-//Irvine Community Connection - ECPv6.14.0//NONSGML v1.0//EN
CALSCALE:GREGORIAN
METHOD:PUBLISH
X-WR-CALNAME:Irvine Community Connection
X-ORIGINAL-URL:https://www.irvineconnection.com
X-WR-CALDESC:Events for Irvine Community Connection
REFRESH-INTERVAL;VALUE=DURATION:PT1H
X-Robots-Tag:noindex
X-PUBLISHED-TTL:PT1H
BEGIN:VTIMEZONE
TZID:America/Los_Angeles
BEGIN:DAYLIGHT
TZOFFSETFROM:-0800
TZOFFSETTO:-0700
TZNAME:PDT
DTSTART:20240310T100000
END:DAYLIGHT
BEGIN:STANDARD
TZOFFSETFROM:-0700
TZOFFSETTO:-0800
TZNAME:PST
DTSTART:20241103T090000
END:STANDARD
END:VTIMEZONE
BEGIN:VEVENT
DTSTART;TZID=America/Los_Angeles:20241026T190000
DTEND;TZID=America/Los_Angeles:20241026T190000
DTSTAMP:20260424T032041
CREATED:20241016T010520Z
LAST-MODIFIED:20241016T010520Z
UID:10000140-1729969200-1729969200@www.irvineconnection.com
SUMMARY:Pro soccer matches
DESCRIPTION:The Orange County Soccer Club\, the highest-tier professional soccer team in the county\, will host Colorado Springs Switchbacks FC on Oct.9\, New Mexico United on Oct. 19 and Hartford Athletic on Oct. 26. Great Park Championship Soccer Stadium\, orangecountysoccer.com.
URL:https://www.irvineconnection.com/event/pro-soccer-matches/2024-10-26/
LOCATION:Championship Soccer Stadium at Great Park\, 8272 Great Park Blvd\, Irvine\, CA\, 92618\, United States
ATTACH;FMTTYPE=image/jpeg:https://www.irvineconnection.com/wp-content/uploads/2024/10/032324_OCSCvsMIA-150-1600x960-1.jpg
END:VEVENT
BEGIN:VEVENT
DTSTART;TZID=America/Los_Angeles:20241019T190000
DTEND;TZID=America/Los_Angeles:20241019T190000
DTSTAMP:20260424T032041
CREATED:20241016T010520Z
LAST-MODIFIED:20241016T010520Z
UID:10000139-1729364400-1729364400@www.irvineconnection.com
SUMMARY:Pro soccer matches
DESCRIPTION:The Orange County Soccer Club\, the highest-tier professional soccer team in the county\, will host Colorado Springs Switchbacks FC on Oct.9\, New Mexico United on Oct. 19 and Hartford Athletic on Oct. 26. Great Park Championship Soccer Stadium\, orangecountysoccer.com.
URL:https://www.irvineconnection.com/event/pro-soccer-matches/2024-10-19/
LOCATION:Championship Soccer Stadium at Great Park\, 8272 Great Park Blvd\, Irvine\, CA\, 92618\, United States
ATTACH;FMTTYPE=image/jpeg:https://www.irvineconnection.com/wp-content/uploads/2024/10/032324_OCSCvsMIA-150-1600x960-1.jpg
END:VEVENT
END:VCALENDAR